BEGIN:VCALENDAR
VERSION:2.0
PRODID:-//GFMD Civil Society Mechanism - ECPv6.15.20//NONSGML v1.0//EN
CALSCALE:GREGORIAN
METHOD:PUBLISH
X-WR-CALNAME:GFMD Civil Society Mechanism
X-ORIGINAL-URL:https://gfmdcivilsociety.org
X-WR-CALDESC:Events for GFMD Civil Society Mechanism
REFRESH-INTERVAL;VALUE=DURATION:PT1H
X-Robots-Tag:noindex
X-PUBLISHED-TTL:PT1H
BEGIN:VTIMEZONE
TZID:Europe/Zurich
BEGIN:DAYLIGHT
TZOFFSETFROM:+0100
TZOFFSETTO:+0200
TZNAME:CEST
DTSTART:20220327T010000
END:DAYLIGHT
BEGIN:STANDARD
TZOFFSETFROM:+0200
TZOFFSETTO:+0100
TZNAME:CET
DTSTART:20221030T010000
END:STANDARD
BEGIN:DAYLIGHT
TZOFFSETFROM:+0100
TZOFFSETTO:+0200
TZNAME:CEST
DTSTART:20230326T010000
END:DAYLIGHT
BEGIN:STANDARD
TZOFFSETFROM:+0200
TZOFFSETTO:+0100
TZNAME:CET
DTSTART:20231029T010000
END:STANDARD
BEGIN:DAYLIGHT
TZOFFSETFROM:+0100
TZOFFSETTO:+0200
TZNAME:CEST
DTSTART:20240331T010000
END:DAYLIGHT
BEGIN:STANDARD
TZOFFSETFROM:+0200
TZOFFSETTO:+0100
TZNAME:CET
DTSTART:20241027T010000
END:STANDARD
END:VTIMEZONE
BEGIN:VEVENT
DTSTART;TZID=Europe/Zurich:20231205T060000
DTEND;TZID=Europe/Zurich:20231205T070000
DTSTAMP:20260423T104709
CREATED:20240105T120302Z
LAST-MODIFIED:20240105T120521Z
UID:4017-1701756000-1701759600@gfmdcivilsociety.org
SUMMARY:Internal Displacement\, Disasters and Climate Change
DESCRIPTION:  \nOn December 5th 2023\, French civil society organisation\, Secours Islamique France (SIF)\, co-organised an event in partnership with the Global Forum on Migration and Development (GFMD)\, the International Organisation for Migration (IOM)\, the French Ministre de l’Europe et des Affaires étrangères\, and the Internal Displacement Monitoring Centre (IDMC)\, at COP28 hosted by the United Arab Emirates. This event was an opportunity for diverse stakeholders to exchange on  what roles development actors can play in supporting durable solutions\, and preventing and responding to loss and damage as a result of climate change and disasters. \n 
URL:https://gfmdcivilsociety.org/event/internal-displacement-disasters-and-climate-change/
CATEGORIES:2022-2024 GFMD Calendar of Activities,Civil Society,French Chairmanship
ATTACH;FMTTYPE=image/jpeg:https://gfmdcivilsociety.org/wp-content/uploads/2024/01/COP28-evenement-PDI-Climat-horizontal.jpg
END:VEVENT
BEGIN:VEVENT
DTSTART;VALUE=DATE:20231025
DTEND;VALUE=DATE:20231026
DTSTAMP:20260423T104709
CREATED:20231108T135518Z
LAST-MODIFIED:20231108T135930Z
UID:4001-1698192000-1698278399@gfmdcivilsociety.org
SUMMARY:GFMD 3rd Preparatory Meeting
DESCRIPTION:The 3rd Preparatory Meeting of the 2023-2024 GFMD took place on 25 October in Geneva. Guided by inputs from a prior global civil society consultation\, civil society thematic experts made interventions in each multistakeholder roundtable on the 6 thematic priorities of the 2022-2024 French Chairmanship. The final background papers from each thematic roundtable will be presented at the 14th GFMD Summit on 22-25 January 2024 in Geneva. \nRead more on their key messages: \n\nREWIND & RECAP (1/2): GFMD 3rd Preparatory Meeting\nREWIND & RECAP (2/2): GFMD 3rd Preparatory Meeting\n\n  \nVenue: Centre International de Conférences Genève\, 17 rue de Varembe\, 1211 Geneva\, Switzerland
URL:https://gfmdcivilsociety.org/event/gfmd-3rd-preparatory-meeting/
CATEGORIES:2022-2024 GFMD Calendar of Activities,French Chairmanship
ATTACH;FMTTYPE=image/jpeg:https://gfmdcivilsociety.org/wp-content/uploads/2023/11/CS-Thematic-Leads-Group-scaled.jpg
END:VEVENT
BEGIN:VEVENT
DTSTART;VALUE=DATE:20231023
DTEND;VALUE=DATE:20231024
DTSTAMP:20260423T104709
CREATED:20231108T112513Z
LAST-MODIFIED:20231108T124718Z
UID:3980-1698019200-1698105599@gfmdcivilsociety.org
SUMMARY:GFMD Workshop on Engaging Diasporas in Climate Action
DESCRIPTION:On 23 October the UNDP and OECD in Geneva co-organised a thematic workshop on the Practices\, Challenges & Opportunities of Engaging Diasporas in Climate Action. \nCivil society experts working on diaspora-related issues were present at the workshop and shared key insights with government and international intermediaries on current obstacles and ways forward to leverage diasporas as key partners in global climate action. \nRead more on their key messages: REWIND & RECAP: GFMD Thematic Workshop – Engaging Diasporas in Climate Action: Practices\, Challenges & Opportunities \n  \nVenue: International Environment House\, Chemin des Anémones 11-13\, Châtelaine\, Geneva\, 1219 Switzerland
URL:https://gfmdcivilsociety.org/event/gfmd-workshop-on-engaging-diasporas-in-climate-action/
CATEGORIES:French Chairmanship
ATTACH;FMTTYPE=image/jpeg:https://gfmdcivilsociety.org/wp-content/uploads/2023/11/Diaspora-Workshop-scaled.jpg
END:VEVENT
BEGIN:VEVENT
DTSTART;VALUE=DATE:20230628
DTEND;VALUE=DATE:20230629
DTSTAMP:20260423T104709
CREATED:20230731T142713Z
LAST-MODIFIED:20231108T125146Z
UID:3886-1687910400-1687996799@gfmdcivilsociety.org
SUMMARY:GFMD Workshop on Climate and Human Mobility
DESCRIPTION:The second GFMD Paris workshop held on 28 June at the Agence française de développement\, centred around ‘Climate and Human Mobility’. \nVarious civil society organizations\, trade unions\, and other non-state actors participated and shared valuable insights on key advocacy points\, illustrated with regional and national examples\,  to be addressed during the workshop.  \nListen to the full-day discussions here: GFMD France – Thematic workshop on climate and human mobility (28 June 2023) – YouTube \n  \nVenue: Agence française de développement\, 5 rue Roland Barthes\, 75012 Paris\, France
URL:https://gfmdcivilsociety.org/event/gfmd-workshop-on-climate-and-human-mobility/
CATEGORIES:French Chairmanship
ATTACH;FMTTYPE=image/jpeg:https://gfmdcivilsociety.org/wp-content/uploads/2023/07/IMG-20230628-WA0025.jpg
END:VEVENT
BEGIN:VEVENT
DTSTART;VALUE=DATE:20230627
DTEND;VALUE=DATE:20230628
DTSTAMP:20260423T104709
CREATED:20230731T140813Z
LAST-MODIFIED:20231108T125529Z
UID:3881-1687824000-1687910399@gfmdcivilsociety.org
SUMMARY:GFMD Workshop on Culture\, Narratives and Human Mobility
DESCRIPTION:The first GFMD Paris workshop held on 27 June at the National Museum of Immigration History\, focused on ‘Culture\, Narratives and Human Mobility’. \nVarious civil society organizations\, trade unions\, and other non-state actors participated and shared valuable insights on key advocacy points\, illustrated with regional and national examples\,  to be addressed during the workshop.  \nListen to the full-day discussions here: GFMD France – Thematic workshop on culture and human mobility (27 June 2023) – YouTube \n  \nVenue: Palais de la Porte Dorée\, 293 avenue Daumesnil\, 75012 Paris\, France
URL:https://gfmdcivilsociety.org/event/gfmd-workshop-on-culture-narratives-and-human-mobility/
CATEGORIES:French Chairmanship
ATTACH;FMTTYPE=image/jpeg:https://gfmdcivilsociety.org/wp-content/uploads/2023/07/MicrosoftTeams-image-27.jpg
END:VEVENT
END:VCALENDAR